Workbook
Name _Toc57642926: 'Datos generales '!$A$5
Name Admin: 'Administrativo(1)'!$D$38
Name Admin: Administrativo!$D$30
Name Flia: Familia!$D$23
Name Infra: Infraestructura!$D$35
Name peda: Pedagogico!$D$25
Name salud: Salud!$D$26

Sheet Lista
A1: No Existe | B1: 2
A2: Existe | B2: 2
A4: Nulo | B4: 3 | E4: 2
A5: En desarrollo | B5: 3 | E5: 3
A6: Consolidado | B6: 3 | E6: 4
A7: Avanzado | B7: 3 | E7: 1
A10: No existe | B10: 1
A11: En desarrollo | B11: 1
A12: Existe | B12: 1
A15: Bajo | B15: 4
A16: Medio | B16: 4
A17: Alto | B17: 4
A18: Superior | B18: 4
A21: Nulo | B21: 5
A22: Regular | B22: 5
A23: Buena | B23: 5
A24: Excelente | B24: 5

Sheet BASE
B1: No. Criterio | C1: Criterio de calidad - instrumento | D1: No Existe | F1: Existe | H1: Resultado | I1: Acciones de Mejora
A2: Infraestructura y Ambientes protectores y seguros | H2: =IF(F2="X",AVERAGE(H38:H40),0) -> 0
A3: Infraestructura y Ambientes protectores y seguros | H3: =IF(F3="X",1,0) -> 0
A4: Infraestructura y Ambientes protectores y seguros | H4: =IF(F4="X",1,0) -> 0
A5: Infraestructura y Ambientes protectores y seguros | H5: =IF(F5="X",1,0) -> 0
A6: Infraestructura y Ambientes protectores y seguros | H6: =IF(F6="X",1,0) -> 0
H7: =IF(F7="X",1,"")
H8: =IF(F8="X",1,"")
H9: =IF(F9="X",1,"")
A10: Componente | B10: No. Criterio | C10: Criterio de calidad - instrumento | D10: Nulo | E10: En desarrollo | F10: Consolidado | G10: Avanzado | H10: Resultado | I10: Acciones de Mejora
A11: Infraestructura y Ambientes protectores y seguros | H11: =IF(D11="X",0,IF(E11="X",0.5,IF(F11="X",0.75,IF(G11="X",1,0)))) -> 0
A12: Infraestructura y Ambientes protectores y seguros | H12: =IF(D12="X",0,IF(E12="X",0.5,IF(F12="X",0.75,IF(G12="X",1,0)))) -> 0
A13: Infraestructura y Ambientes protectores y seguros | H13: =IF(D13="X",0,IF(E13="X",0.5,IF(F13="X",0.75,IF(G13="X",1,0)))) -> 0
A14: Infraestructura y Ambientes protectores y seguros | H14: =IF(D14="X",0,IF(E14="X",0.5,IF(F14="X",0.75,IF(G14="X",1,0)))) -> 0
A15: Infraestructura y Ambientes protectores y seguros | H15: =IF(D15="X",0,IF(E15="X",0.5,IF(F15="X",0.75,IF(G15="X",1,0)))) -> 0
A16: Infraestructura y Ambientes protectores y seguros | H16: =IF(D16="X",0,IF(E16="X",0.5,IF(F16="X",0.75,IF(G16="X",1,0)))) -> 0
A17: Infraestructura y Ambientes protectores y seguros | H17: =IF(D17="X",0,IF(E17="X",0.5,IF(F17="X",0.75,IF(G17="X",1,0)))) -> 0
A18: Infraestructura y Ambientes protectores y seguros | H18: =IF(D18="X",0,IF(E18="X",0.5,IF(F18="X",0.75,IF(G18="X",1,0)))) -> 0
H19: =IF(D19="X",0,IF(E19="X",0.5,IF(F19="X",0.75,IF(G19="X",1,""))))
H20: =IF(D20="X",0,IF(E20="X",0.5,IF(F20="X",0.75,IF(G20="X",1,""))))
H21: =IF(D21="X",0,IF(E21="X",0.5,IF(F21="X",0.75,IF(G21="X",1,""))))
A22: Componente | B22: No. Criterio | C22: Criterio de calidad - instrumento | D22: Bajo | E22: Medio | F22: Alto | G22: Superior | H22: Resultado | I22: Acciones de Mejora
A23: Infraestructura y Ambientes protectores y seguros | H23: =IF(D23="X",0,IF(E23="X",0.5,IF(F23="X",0.75,IF(G23="X",1,0)))) -> 0
A24: Infraestructura y Ambientes protectores y seguros | H24: =IF(D24="X",0,IF(E24="X",0.5,IF(F24="X",0.75,IF(G24="X",1,0)))) -> 0
A25: Infraestructura y Ambientes protectores y seguros | H25: =IF(D25="X",0,IF(E25="X",0.5,IF(F25="X",0.75,IF(G25="X",1,0)))) -> 0
A26: Infraestructura y Ambientes protectores y seguros | H26: =IF(D26="X",0,IF(E26="X",0.5,IF(F26="X",0.75,IF(G26="X",1,0)))) -> 0
A27: Infraestructura y Ambientes protectores y seguros | H27: =IF(D27="X",0,IF(E27="X",0.5,IF(F27="X",0.75,IF(G27="X",1,0)))) -> 0
A28: Infraestructura y Ambientes protectores y seguros | H28: =IF(D28="X",0,IF(E28="X",0.5,IF(F28="X",0.75,IF(G28="X",1,0)))) -> 0
A29: Infraestructura y Ambientes protectores y seguros | H29: =IF(D29="X",0,IF(E29="X",0.5,IF(F29="X",0.75,IF(G29="X",1,0)))) -> 0
A30: Infraestructura y Ambientes protectores y seguros | H30: =IF(D30="X",0,IF(E30="X",0.5,IF(F30="X",0.75,IF(G30="X",1,0)))) -> 0
H31: =IF(D31="X",0,IF(E31="X",0.5,IF(F31="X",0.75,IF(G31="X",1,""))))
H32: =IF(D32="X",0,IF(E32="X",0.5,IF(F32="X",0.75,IF(G32="X",1,""))))
H33: =IF(D33="X",0,IF(E33="X",0.5,IF(F33="X",0.75,IF(G33="X",1,""))))
A34: Componente | B34: No. Criterio | C34: Criterio de calidad - instrumento | D34: Nulo | E34: Regular | F34: Buena | G34: Excelente | H34: Resultado | I34: Acciones de Mejora
A35: Infraestructura y Ambientes protectores y seguros | H35: =IF(D35="X",0,IF(E35="X",0.5,IF(F35="X",0.75,IF(G35="X",1,0)))) -> 0
A36: Infraestructura y Ambientes protectores y seguros | H36: =IF(D36="X",0,IF(E36="X",0.5,IF(F36="X",0.75,IF(G36="X",1,0)))) -> 0
A37: Infraestructura y Ambientes protectores y seguros | H37: =IF(D37="X",0,IF(E37="X",0.5,IF(F37="X",0.75,IF(G37="X",1,0)))) -> 0
A38: Infraestructura y Ambientes protectores y seguros | H38: =IF(D38="X",0,IF(E38="X",0.5,IF(F38="X",0.75,IF(G38="X",1,0)))) -> 0
A39: Infraestructura y Ambientes protectores y seguros | H39: =IF(D39="X",0,IF(E39="X",0.5,IF(F39="X",0.75,IF(G39="X",1,0)))) -> 0
A40: Infraestructura y Ambientes protectores y seguros | H40: =IF(D40="X",0,IF(E40="X",0.5,IF(F40="X",0.75,IF(G40="X",1,0)))) -> 0
...

Sheet Instrumento (2)
B1: MATRIZ DE AUTO-EVALUACIÓN
B2: COMPONENTES Y CRITERIOS DE CALIDAD
B3: RESIDENCIAS ESCOLARES
A5: Componente | B5: No. Criterio | C5: Criterio de calidad - instrumento | D5: No. Pregunta | E5: Inexistente | F5: Existente | G5: En Desarrollo | H5: Consolidado | I5: Mejora Continua | J5: Acciones de Mejora | K5: FACTOR DE PONDERACIÓN | L5: RESULTADO
E6: Inexistente | F6: Existe
A7: Administrativo y Gestión | B7: 1 | C7: La sede o sedes del establecimiento educativo con residencia escolar, cuenta con un documento de la estrategia de acogida, bienestar y permanencia para estudiantes residentes, articulado con el horizonte institucional. | D7: 42 | F7: X | K7: =100/$D$87 -> 1.4285714 | L7: =IF(E7="X",#REF!,IF(F7="X",#REF!,IF('Instrumento (2)'!G7="X",#REF!,IF('Instrumento (2)'!H7="X",#REF!,IF('Instrumento (2)'!I7="X",#REF!,0))))) -> #REF!
D8: 0 | E8: Inexistente | F8: En desarrollo | G8: Existente | H8: 100
A9: Administrativo y Gestión | B9: 2 | C9: Dentro de los documentos institucionales (PEI y Manual de Convivencia), se define de manera detallada un perfil del estudiante residente que se quiere formar. | D9: 43 | F9: X | K9: =100/$D$87 -> 1.4285714 | L9: =IF(E9="X",#REF!,IF(F9="X",#REF!,IF('Instrumento (2)'!G9="X",#REF!,IF('Instrumento (2)'!H9="X",#REF!,IF('Instrumento (2)'!I9="X",#REF!,0))))) -> #REF!
A10: Administrativo y Gestión | B10: 3 | C10: Los perfiles del talento humano de la residencia escolar, están claramente definidos e integrados a los documentos de gestión institucional en particular el PEI y allí se detallan los requisitos mínimos y las funciones del personal que estará a cargo de la atención a los estudiantes residentes. | D10: 44 | F10: X | K10: =$K$9/6 -> 0.23809524 | L10: =IF(E10="X",#REF!,IF(F10="X",#REF!,IF('Instrumento (2)'!G10="X",#REF!,IF('Instrumento (2)'!H10="X",#REF!,IF('Instrumento (2)'!I10="X",#REF!,0))))) -> #REF!
E11: Inexistente | F11: Existente
A12: Administrativo y Gestión | B12: 3.a. | C12: La residencia escolar cuenta con Directivo Rural. | F12: X | K12: =$K$9/6 -> 0.23809524 | L12: =IF(E12="X",#REF!,IF(F12="X",#REF!,IF('Instrumento (2)'!G12="X",#REF!,IF('Instrumento (2)'!H12="X",#REF!,IF('Instrumento (2)'!I12="X",#REF!,0))))) -> #REF!
A13: Administrativo y Gestión | B13: 3.b. | C13: La residencia escolar cuenta con Coordinador académico, de disciplina o de estudiantes residentes. | F13: X | K13: =$K$9/6 -> 0.23809524 | L13: =IF(E13="X",#REF!,IF(F13="X",#REF!,IF('Instrumento (2)'!G13="X",#REF!,IF('Instrumento (2)'!H13="X",#REF!,IF('Instrumento (2)'!I13="X",#REF!,0))))) -> #REF!
A14: Administrativo y Gestión | B14: 3.c. | C14: La residencia escolar cuenta con docentes en cada área del conocimiento, en los diferentes niveles educativos. | F14: X | K14: =$K$9/6 -> 0.23809524 | L14: =IF(E14="X",#REF!,IF(F14="X",#REF!,IF('Instrumento (2)'!G14="X",#REF!,IF('Instrumento (2)'!H14="X",#REF!,IF('Instrumento (2)'!I14="X",#REF!,0))))) -> #REF!
A15: Administrativo y Gestión | B15: 3.d. | C15: La residencia escolar cuenta con Psico Orientador o personal para apoyo a orientación de estudiantes residentes. | G15: X | K15: =$K$9/6 -> 0.23809524 | L15: =IF(E15="X",#REF!,IF(F15="X",#REF!,IF('Instrumento (2)'!G15="X",#REF!,IF('Instrumento (2)'!H15="X",#REF!,IF('Instrumento (2)'!I15="X",#REF!,0))))) -> #REF!
A16: Administrativo y Gestión | B16: 3.e. | C16: La residencia escolar cuenta con personal de manipulación de alimentos idóneo para el cumplimiento de sus funciones (El personal debe contar con certificado del curso de manipulación de alimentos vigente) | G16: X | K16: =$K$9/6 -> 0.23809524 | L16: =IF(E16="X",#REF!,IF(F16="X",#REF!,IF('Instrumento (2)'!G16="X",#REF!,IF('Instrumento (2)'!H16="X",#REF!,IF('Instrumento (2)'!I16="X",#REF!,0))))) -> #REF!
A17: Administrativo y Gestión | B17: 4 | C17: Durante el proceso de matrícula de las niñas, niños y adolescentes, se verifica por parte del personal directivo y administrativo de la residencia escolar, que se cumpla con las siguientes características para su ingreso a la residencia escolar: (1. Tener ocho (8) años cumplidos al momento de ingresar a la residencia escolar y no superar la mayoría de edad, 2. Residir en zonas rurales de movilidad compleja, 3. No contar con otra oferta educativa cercana a su residencia, 4. Las niñas, niños y adolescentes no son beneficiarios de otras estrategias de bienestar y permanencia como: transporte escolar, modelos de educación flexible) | D17: 45 | G17: X | K17: =100/$D$87 -> 1.4285714 | L17: =IF(E17="X",#REF!,IF(F17="X",#REF!,IF('Instrumento (2)'!G17="X",#REF!,IF('Instrumento (2)'!H17="X",#REF!,IF('Instrumento (2)'!I17="X",#REF!,0))))) -> #REF!
A18: Administrativo y Gestión | B18: 5 | C18: En la residencia escolar se cuenta con instrumentos como: (formatos, fichas, caracterizaciones), para el respectivo seguimiento y control a los estudiantes residentes durante su permanencia en el establecimiento educativo y al momento de salir a visitas familiares o por motivos de salud. | D18: 46 | G18: X | K18: =100/$D$87 -> 1.4285714 | L18: =IF(E18="X",#REF!,IF(F18="X",#REF!,IF('Instrumento (2)'!G18="X",#REF!,IF('Instrumento (2)'!H18="X",#REF!,IF('Instrumento (2)'!I18="X",#REF!,0))))) -> #REF!
A19: Administrativo y Gestión | B19: 6 | C19: Cuando las y los estudiantes salen de la residencia escolar de forma definitiva, se realiza una valoración de salida que incluya al menos los siguientes criterios: (1. Aspectos de convivencia, académicos y promoción del grado escolar. 2. Análisis del diario del estudiante residente, 3. Desempeños en cada una de las áreas del conocimiento y 4. Seguimiento a salidas de la residencia escolar) | D19: 47 | G19: X | K19: =100/$D$87 -> 1.4285714 | L19: =IF(E19="X",#REF!,IF(F19="X",#REF!,IF('Instrumento (2)'!G19="X",#REF!,IF('Instrumento (2)'!H19="X",#REF!,IF('Instrumento (2)'!I19="X",#REF!,0))))) -> #REF!
A20: Administrativo y Gestión | B20: 7 | C20: Se cuenta en la residencia escolar con procesos o instrumentos que hagan seguimiento diario a las actividades cotidianas de estudiantes residentes. | D20: 48 | G20: X | K20: =100/$D$87 -> 1.4285714 | L20: =IF(E20="X",#REF!,IF(F20="X",#REF!,IF('Instrumento (2)'!G20="X",#REF!,IF('Instrumento (2)'!H20="X",#REF!,IF('Instrumento (2)'!I20="X",#REF!,0))))) -> #REF!
A21: Administrativo y Gestión | B21: 8 | C21: Como actividades complementarias a los procesos académicos, la residencia escolar programa espacios que involucran a estudiantes residentes teniendo en cuenta aspectos afectivos, emocionales, psicológicos, desarrollo corporal, lúdico, artístico y recreativo. | D21: 49 | H21: X | K21: =100/$D$87 -> 1.4285714 | L21: =IF(E21="X",#REF!,IF(F21="X",#REF!,IF('Instrumento (2)'!G21="X",#REF!,IF('Instrumento (2)'!H21="X",#REF!,IF('Instrumento (2)'!I21="X",#REF!,0))))) -> #REF!
A22: Administrativo y Gestión | B22: 9 | C22: Se cuenta con una instancia o ente específico para la coordinación, seguimiento y apoyo a las actividades que se realizan al interior de la residencia escolar, el cual garantiza la participación de los diferentes miembros de la comunidad educativa. | D22: 50 | H22: X | K22: =100/$D$87 -> 1.4285714 | L22: =IF(E22="X",#REF!,IF(F22="X",#REF!,IF('Instrumento (2)'!G22="X",#REF!,IF('Instrumento (2)'!H22="X",#REF!,IF('Instrumento (2)'!I22="X",#REF!,0))))) -> #REF!
A23: Administrativo y Gestión | B23: 10 | C23: Dentro de los procesos de gestión de calidad y administración del establecimiento educativo, se realizan actividades de capacitación al equipo de talento humano de la residencia escolar, con el propósito de promover un mejor desarrollo de actividades que permitan la eficiencia y el mejoramiento continuo. | D23: 51 | H23: X | K23: =100/$D$87 -> 1.4285714 | L23: =IF(E23="X",#REF!,IF(F23="X",#REF!,IF('Instrumento (2)'!G23="X",#REF!,IF('Instrumento (2)'!H23="X",#REF!,IF('Instrumento (2)'!I23="X",#REF!,0))))) -> #REF!
A24: Administrativo y Gestión | B24: 11 | C24: En la residencia escolar se hace revisión del inventario de bienes con los que se cuenta de forma continua, periódica y organizada, con el objetivo de establecer la disponibilidad de recursos físicos para determinar aquellos que deban darse de baja, reponerse o adquirirse. | D24: 52 | H24: X | K24: =100/$D$87 -> 1.4285714 | L24: =IF(E24="X",#REF!,IF(F24="X",#REF!,IF('Instrumento (2)'!G24="X",#REF!,IF('Instrumento (2)'!H24="X",#REF!,IF('Instrumento (2)'!I24="X",#REF!,0))))) -> #REF!
A25: Administrativo y Gestión | B25: 12 | C25: El personal directivo y administrativo de la residencia escolar, realiza un proceso de seguimiento y auditoría al cargue de matrícula de estudiantes residentes en SIMAT, cumpliendo con principios de calidad, oportunidad y veracidad de la información, atendiendo a orientaciones de las Secretarías de Educación y el MEN. | D25: 53 | H25: X | K25: =100/$D$87 -> 1.4285714 | L25: =IF(E25="X",#REF!,IF(F25="X",#REF!,IF('Instrumento (2)'!G25="X",#REF!,IF('Instrumento (2)'!H25="X",#REF!,IF('Instrumento (2)'!I25="X",#REF!,0))))) -> #REF!
E26: Bajo | F26: Básico | G26: Avanzado | H26: Superior
A27: Administrativo y Gestión | B27: 13 | C27: Los directivos y docentes del establecimiento educativo, conocen las condiciones mínimas para acceder a proyectos del Sistema General de Regalías (SGR) y tienen identificadas iniciativas desde cada área del conocimiento, que pueden formularse para ser financiadas por el mismo. | D27: 54 | E27: X | K27: =100/$D$87 -> 1.4285714 | L27: =IF(E27="X",#REF!,IF(F27="X",#REF!,IF('Instrumento (2)'!G27="X",#REF!,IF('Instrumento (2)'!H27="X",#REF!,IF('Instrumento (2)'!I27="X",#REF!,0))))) -> #REF!
A28: Administrativo y Gestión | B28: 14 | C28: Los directivos y docentes del establecimiento educativo, identifican actores estratégicos claves de la comunidad, sector educativo, productivo, económico, no gubernamentales, con los cuales se pueda articular la residencia escolar, para la celebración de convenios y alianzas . | D28: 55 | F28: X | K28: =100/$D$87 -> 1.4285714 | L28: =IF(E28="X",#REF!,IF(F28="X",#REF!,IF('Instrumento (2)'!G28="X",#REF!,IF('Instrumento (2)'!H28="X",#REF!,IF('Instrumento (2)'!I28="X",#REF!,0))))) -> #REF!
A29: Familia, Comunidad y Redes | B29: 1 | C29: Dispone de la ficha de caracterización sociofamiliar diligenciada de cada estudiante residente. | D29: 1 | E29: X | K29: =100/$D$87 -> 1.4285714 | L29: =IF(E29="X",#REF!,IF(F29="X",#REF!,IF('Instrumento (2)'!G29="X",#REF!,IF('Instrumento (2)'!H29="X",#REF!,IF('Instrumento (2)'!I29="X",#REF!,0))))) -> #REF!
A30: Familia, Comunidad y Redes | B30: 2 | C30: Cuenta con un plan de acompañamiento psicosocial para cada estudiante residente | D30: 2 | F30: X | K30: =100/$D$87 -> 1.4285714 | L30: =IF(E30="X",#REF!,IF(F30="X",#REF!,IF('Instrumento (2)'!G30="X",#REF!,IF('Instrumento (2)'!H30="X",#REF!,IF('Instrumento (2)'!I30="X",#REF!,0))))) -> #REF!
A31: Familia, Comunidad y Redes | B31: 3 | C31: Identifica y gestiona situaciones de vulneración de derechos de las y los estudiantes residentes. | D31: 3 | G31: X | K31: =100/$D$87 -> 1.4285714 | L31: =IF(E31="X",#REF!,IF(F31="X",#REF!,IF('Instrumento (2)'!G31="X",#REF!,IF('Instrumento (2)'!H31="X",#REF!,IF('Instrumento (2)'!I31="X",#REF!,0))))) -> #REF!
A32: Familia, Comunidad y Redes | B32: 4 | C32: Activa las rutas de atención ante cualquier situación de vulneración de derechos. | D32: 4 | H32: X | K32: =100/$D$87 -> 1.4285714 | L32: =IF(E32="X",#REF!,IF(F32="X",#REF!,IF('Instrumento (2)'!G32="X",#REF!,IF('Instrumento (2)'!H32="X",#REF!,IF('Instrumento (2)'!I32="X",#REF!,0))))) -> #REF!
A33: Familia, Comunidad y Redes | B33: 5 | C33: Cuenta con un mapeo de actores, ruta de atención integral del Municipio y Plan de Atención Integral. | D33: 5 | I33: X | K33: =100/$D$87 -> 1.4285714 | L33: =IF(E33="X",#REF!,IF(F33="X",#REF!,IF('Instrumento (2)'!G33="X",#REF!,IF('Instrumento (2)'!H33="X",#REF!,IF('Instrumento (2)'!I33="X",#REF!,0))))) -> #REF!
A34: Familia, Comunidad y Redes | B34: 6 | C34: Cuenta con un cronograma donde se visibiliza acciones de fortalecimiento del vínculo Familia – Escuela. | D34: 6 | F34: X | K34: =100/$D$87 -> 1.4285714 | L34: =IF(E34="X",#REF!,IF(F34="X",#REF!,IF('Instrumento (2)'!G34="X",#REF!,IF('Instrumento (2)'!H34="X",#REF!,IF('Instrumento (2)'!I34="X",#REF!,0))))) -> #REF!
A35: Familia, Comunidad y Redes | B35: 7 | C35: Dispone de evidencias donde se visibilizan acciones de fortalecimiento del vínculo Familia – Escuela. | D35: 7 | F35: X | K35: =100/$D$87 -> 1.4285714 | L35: =IF(E35="X",#REF!,IF(F35="X",#REF!,IF('Instrumento (2)'!G35="X",#REF!,IF('Instrumento (2)'!H35="X",#REF!,IF('Instrumento (2)'!I35="X",#REF!,0))))) -> #REF!
A36: Familia, Comunidad y Redes | B36: 8 | C36: Realiza encuentros periódicos entre la familia y/o responsables, y las niñas, niños y adolescentes. Como una estrategia de fortalecimiento del vínculo afectivo. | D36: 8 | G36: X | K36: =100/$D$87 -> 1.4285714 | L36: =IF(E36="X",#REF!,IF(F36="X",#REF!,IF('Instrumento (2)'!G36="X",#REF!,IF('Instrumento (2)'!H36="X",#REF!,IF('Instrumento (2)'!I36="X",#REF!,0))))) -> #REF!
A37: Familia, Comunidad y Redes | B37: 9 | C37: Propicia encuentros y/o actividades entre las y los estudiantes residentes y la comunidad. | D37: 9 | G37: X | K37: =100/$D$87 -> 1.4285714 | L37: =IF(E37="X",#REF!,IF(F37="X",#REF!,IF('Instrumento (2)'!G37="X",#REF!,IF('Instrumento (2)'!H37="X",#REF!,IF('Instrumento (2)'!I37="X",#REF!,0))))) -> #REF!
A38: Familia, Comunidad y Redes | B38: 10 | C38: Fomenta la comunicación (llamadas – video llamadas – mensajes de audio, cartas) permanente entre la familia y las y los estudiantes residentes. | D38: 10 | G38: X | K38: =100/$D$87 -> 1.4285714 | L38: =IF(E38="X",#REF!,IF(F38="X",#REF!,IF('Instrumento (2)'!G38="X",#REF!,IF('Instrumento (2)'!H38="X",#REF!,IF('Instrumento (2)'!I38="X",#REF!,0))))) -> #REF!
A39: Familia, Comunidad y Redes | B39: 11 | C39: Realiza escuela de padres. (4 veces al año) | D39: 11 | G39: X | K39: =100/$D$87 -> 1.4285714 | L39: =IF(E39="X",#REF!,IF(F39="X",#REF!,IF('Instrumento (2)'!G39="X",#REF!,IF('Instrumento (2)'!H39="X",#REF!,IF('Instrumento (2)'!I39="X",#REF!,0))))) -> #REF!
A40: Familia, Comunidad y Redes | B40: 12 | C40: Realiza actividades recro- deportivas vinculando a estudiantes, madres y padres de familia y comunidad. (3 veces al año) | D40: 12 | G40: X | K40: =100/$D$87 -> 1.4285714 | L40: =IF(E40="X",#REF!,IF(F40="X",#REF!,IF('Instrumento (2)'!G40="X",#REF!,IF('Instrumento (2)'!H40="X",#REF!,IF('Instrumento (2)'!I40="X",#REF!,0))))) -> #REF!
A41: Familia, Comunidad y Redes | B41: 13 | C41: Promueve acciones para visibilizar las prácticas culturales y preservar la cultura de la región. | D41: 13 | H41: X | K41: =100/$D$87 -> 1.4285714 | L41: =IF(E41="X",#REF!,IF(F41="X",#REF!,IF('Instrumento (2)'!G41="X",#REF!,IF('Instrumento (2)'!H41="X",#REF!,IF('Instrumento (2)'!I41="X",#REF!,0))))) -> #REF!
...

Sheet Instrumento
B1: MATRIZ DE AUTO-EVALUACIÓN
B2: COMPONENTES Y CRITERIOS DE CALIDAD
B3: RESIDENCIAS ESCOLARES
A15: Componente | B15: No. Criterio | C15: Criterio de calidad - instrumento | E15: Valoración
A16: Administrativo y Gestión | B16: 1 | C16: La residencia escolar cuenta con Directivo Rural. | D16: 2 | E16: =VLOOKUP(B16,Administrativo!$A$1:$H$50,7,0) -> 0
A17: Administrativo y Gestión | B17: 2 | C17: La residencia escolar cuenta con Coordinador académico, de disciplina o de estudiantes residentes. | D17: 2 | E17: =VLOOKUP(B17,Administrativo!$A$1:$H$50,7,0) -> 0
A18: Administrativo y Gestión | B18: 3 | C18: La residencia escolar cuenta con docentes en cada área del conocimiento, en los diferentes niveles educativos. | D18: 2 | E18: =VLOOKUP(B18,Administrativo!$A$1:$H$50,7,0) -> 0
A19: Administrativo y Gestión | B19: 4 | C19: La residencia escolar cuenta con Psico Orientador o personal para apoyo a orientación de estudiantes residentes. | D19: 2 | E19: =VLOOKUP(B19,Administrativo!$A$1:$H$50,7,0) -> 0
A20: Administrativo y Gestión | B20: 5 | C20: La residencia escolar cuenta con personal de manipulación de alimentos idóneo para el cumplimiento de sus funciones (El personal debe contar con certificado del curso de manipulación de alimentos vigente) | D20: 2 | E20: =VLOOKUP(B20,Administrativo!$A$1:$H$50,7,0) -> 0
A21: Administrativo y Gestión | B21: 6 | C21: Durante el proceso de matrícula de las niñas, niños y adolescentes, se verifica por parte del personal directivo y administrativo de la residencia escolar, que se cumpla con tener ocho (8) años cumplidos al momento de ingresar a la residencia escolar y no superar la mayoría de edad. | D21: 2 | E21: =VLOOKUP(B21,Administrativo!$A$1:$H$50,7,0) -> 0
A22: Administrativo y Gestión | B22: 7 | C22: Durante el proceso de matrícula de las niñas, niños y adolescentes, se verifica por parte del personal directivo y administrativo de la residencia escolar, que se cumpla con Residir en zonas rurales de movilidad compleja. | D22: 2 | E22: =VLOOKUP(B22,Administrativo!$A$1:$H$50,7,0) -> 0
A23: Administrativo y Gestión | B23: 8 | C23: Durante el proceso de matrícula de las niñas, niños y adolescentes, se verifica por parte del personal directivo y administrativo de la residencia escolar, que se cumpla con No contar con otra oferta educativa cercana a su residencia. | D23: 2 | E23: =VLOOKUP(B23,Administrativo!$A$1:$H$50,7,0) -> 0
A24: Administrativo y Gestión | B24: 9 | C24: Durante el proceso de matrícula de las niñas, niños y adolescentes, se verifica por parte del personal directivo y administrativo de la residencia escolar, que se cumpla con que Las niñas, niños y adolescentes no son beneficiarios de otras estrategias de bienestar y permanencia como: transporte escolar, modelos de educación flexible). | D24: 2 | E24: =VLOOKUP(B24,Administrativo!$A$1:$H$50,7,0) -> 0
A25: Administrativo y Gestión | B25: 10 | C25: En la residencia escolar se cuenta con instrumentos como: (formatos, fichas, caracterizaciones), para el respectivo seguimiento y control a los estudiantes residentes durante su permanencia en el establecimiento educativo y al momento de salir a visitas familiares o por motivos de salud. | D25: 2 | E25: =VLOOKUP(B25,Administrativo!$A$1:$H$50,7,0) -> 0
A26: Administrativo y Gestión | B26: 11 | C26: Cuando las y los estudiantes salen de la residencia escolar de forma definitiva, se realiza una valoración de salida que incluye el análisis del diario del estudiante residente | D26: 2 | E26: =VLOOKUP(B26,Administrativo!$A$1:$H$50,7,0) -> 0
A27: Administrativo y Gestión | B27: 12 | C27: Cuando las y los estudiantes salen de la residencia escolar de forma definitiva, se realiza una valoración de salida que incluye los desempeños en cada una de las áreas del conocimiento. | D27: 2 | E27: =VLOOKUP(B27,Administrativo!$A$1:$H$50,7,0) -> 0
... A42: Administrativo y Gestión | B42: 27 | C42: El personal directivo y administrativo de la residencia escolar, realiza un proceso de seguimiento y auditoría al cargue de matrícula de estudiantes residentes en SIMAT, cumpliendo con principios de calidad, oportunidad y veracidad de la información, atendiendo a orientaciones de las Secretarías de Educación y el MEN. | D42: 5 | E42: =VLOOKUP(B42,Administrativo!$A$1:$H$50,7,0) -> #N/A
A43: Familia, Comunidad y Redes | B43: 1 | C43: Dispone de la ficha de caracterización sociofamiliar diligenciada de cada estudiante residente. | D43: 2 | E43: =VLOOKUP(B43,Familia!$A$1:$H$61,7,0) -> 0
A44: Familia, Comunidad y Redes | B44: 2 | C44: Activa las rutas de atención ante cualquier situación de vulneración de derechos. | D44: 2 | E44: =VLOOKUP(B44,Familia!$A$1:$H$61,7,0) -> 0
A45: Familia, Comunidad y Redes | B45: 3 | C45: Cuenta con un cronograma donde se visibiliza acciones de fortalecimiento del vínculo Familia – Escuela. | D45: 2 | E45: =VLOOKUP(B45,Familia!$A$1:$H$61,7,0) -> 0
A46: Familia, Comunidad y Redes | B46: 4 | C46: Realiza encuentros periódicos entre la familia y/o responsables, y las niñas, niños y adolescentes. Como una estrategia de fortalecimiento del vínculo afectivo. | D46: 2 | E46: =VLOOKUP(B46,Familia!$A$1:$H$61,7,0) -> 0
A47: Familia, Comunidad y Redes | B47: 5 | C47: Propicia encuentros y/o actividades entre las y los estudiantes residentes y la comunidad. | D47: 2 | E47: =VLOOKUP(B47,Familia!$A$1:$H$61,7,0) -> 0
A48: Familia, Comunidad y Redes | B48: 6 | C48: Fomenta la comunicación (llamadas – video llamadas – mensajes de audio, cartas) permanente entre la familia y las y los estudiantes residentes. | D48: 2 | E48: =VLOOKUP(B48,Familia!$A$1:$H$61,7,0) -> 0
A49: Familia, Comunidad y Redes | B49: 7 | C49: Realiza escuela de padres. (4 veces al año) | D49: 2 | E49: =VLOOKUP(B49,Familia!$A$1:$H$61,7,0) -> 0
A50: Familia, Comunidad y Redes | B50: 8 | C50: Realiza actividades recreo- deportivas vinculando a estudiantes, madres y padres de familia y comunidad. (3 veces al año) | D50: 2 | E50: =VLOOKUP(B50,Familia!$A$1:$H$61,7,0) -> 0
A51: Familia, Comunidad y Redes | B51: 9 | C51: Promueve acciones para visibilizar las prácticas culturales y preservar la cultura de la región. | D51: 2 | E51: =VLOOKUP(B51,Familia!$A$1:$H$61,7,0) -> 0
A52: Familia, Comunidad y Redes | B52: 10 | C52: Cuenta con un plan de acompañamiento psicosocial para cada estudiante residente | D52: 3 | E52: =VLOOKUP(B52,Familia!$A$1:$H$61,7,0) -> 0
A53: Familia, Comunidad y Redes | B53: 11 | C53: Identifica y gestiona situaciones de vulneración de derechos de las y los estudiantes residentes. | D53: 3 | E53: =VLOOKUP(B53,Familia!$A$1:$H$61,7,0) -> 0
A54: Familia, Comunidad y Redes | B54: 12 | C54: Cuenta con un mapeo de actores, ruta de atención integral del Municipio y Plan de Atención Integral. | D54: 3 | E54: =VLOOKUP(B54,Familia!$A$1:$H$61,7,0) -> 0
A55: Familia, Comunidad y Redes | B55: 13 | C55: Dispone de evidencias donde se visibilizan acciones de fortalecimiento del vínculo Familia – Escuela. | D55: 3 | E55: =VLOOKUP(B55,Familia!$A$1:$H$61,7,0) -> 0
A56: Infraestructura y Ambientes protectores y seguros | B56: 1 | C56: La Residencia Escolar conformó un comité de gestión de riesgos. | D56: 2 | E56: =VLOOKUP(B56,Infraestructura!$A$1:$H$60,7,0) -> 0
A57: Infraestructura y Ambientes protectores y seguros | B57: 2 | C57: La Residencia escolar cuenta con los documentos actualizados que garanticen la tenencia y propiedad del predio donde se encuentra la institución educativa. | D57: 2 | E57: =VLOOKUP(B57,Infraestructura!$A$1:$H$60,7,0) -> 0
A58: Infraestructura y Ambientes protectores y seguros | B58: 3 | C58: La Residencia escolar cuenta con el servicio de agua potable. | D58: 2 | E58: =VLOOKUP(B58,Infraestructura!$A$1:$H$60,7,0) -> 0
A59: Infraestructura y Ambientes protectores y seguros | B59: 4 | C59: La Residencia escolar cuenta con el servicio de energía eléctrica. | D59: 2 | E59: =VLOOKUP(B59,Infraestructura!$A$1:$H$60,7,0) -> 0
A60: Infraestructura y Ambientes protectores y seguros | B60: 5 | C60: La Residencia escolar cuenta con el servicio de energías alternativas. | D60: 2 | E60: =VLOOKUP(B60,Infraestructura!$A$1:$H$60,7,0) -> 0
A61: Infraestructura y Ambientes protectores y seguros | B61: 6 | C61: La Residencia escolar cuenta con el servicio de manejo de aguas residuales. | D61: 2 | E61: =VLOOKUP(B61,Infraestructura!$A$1:$H$60,7,0) -> 0
A62: Infraestructura y Ambientes protectores y seguros | B62: 7 | C62: La Residencia escolar cuenta con sistemas de recolección de residuos sólidos. | D62: 2 | E62: =VLOOKUP(B62,Infraestructura!$A$1:$H$60,7,0) -> 0
A63: Infraestructura y Ambientes protectores y seguros | B63: 8 | C63: La Residencia escolar cuenta con los espacios educativos, habitacionales y de recreación dotados del mobiliario requerido para el uso y goce adecuado. | D63: 2 | E63: =VLOOKUP(B63,Infraestructura!$A$1:$H$60,7,0) -> 0
A64: Infraestructura y Ambientes protectores y seguros | B64: 9 | C64: La Residencia escolar cuenta con el menaje y materiales indispensables para realizar las diferentes labores dentro de la residencia (administrativa, alimentación y servicios generales). | D64: 2 | E64: =VLOOKUP(B64,Infraestructura!$A$1:$H$60,7,0) -> 0
A65: Infraestructura y Ambientes protectores y seguros | B65: 10 | C65: La Residencia escolar cuenta con diferentes puntos ecológicos para arrojar basura dentro de la institución educativa adoptando la cultura del reciclaje. | D65: 2 | E65: =VLOOKUP(B65,Infraestructura!$A$1:$H$60,7,0) -> 0
...

Sheet General (2)
D1: Componente | E1: Total
D2: Administrativo y Gestión | E2: =Admin -> 0
D3: Familia, Comunidad y Redes | E3: =Flia -> 0
D4: Infraestructura y Ambientes protectores y seguros | E4: =Infra -> 0
D5: Pedagógico y Vida Cotidiana | E5: =peda -> 0
D6: Salud y Nutrición | E6: =salud -> 0
D7: Promedio | E7: =SUBTOTAL(101,Tabla13[Total]) -> 0
B23: Componente | C23: No. Criterio | D23: Criterio de calidad - instrumento | E23: Valoración
A24: 2 | B24: Administrativo y Gestión | C24: 1 | D24: La residencia escolar cuenta con Directivo Rural. | E24: =VLOOKUP(C24,'Administrativo(1)'!$A$1:$H$58,7,0) -> 0
A25: 2 | B25: Administrativo y Gestión | C25: 2 | D25: La residencia escolar cuenta con Coordinador académico, de disciplina o de estudiantes residentes. | E25: =VLOOKUP(C25,Administrativo!$A$1:$H$50,7,0) -> 0
A26: 2 | B26: Administrativo y Gestión | C26: 3 | D26: La residencia escolar cuenta con docentes en cada área del conocimiento, en los diferentes niveles educativos. | E26: =VLOOKUP(C26,Administrativo!$A$1:$H$50,7,0) -> 0
A27: 2 | B27: Administrativo y Gestión | C27: 4 | D27: La residencia escolar cuenta con Psico Orientador o personal para apoyo a orientación de estudiantes residentes. | E27: =VLOOKUP(C27,Administrativo!$A$1:$H$50,7,0) -> 0
A28: 2 | B28: Administrativo y Gestión | C28: 5 | D28: La residencia escolar cuenta con personal de manipulación de alimentos idóneo para el cumplimiento de sus funciones (El personal debe contar con certificado del curso de manipulación de alimentos vigente) | E28: =VLOOKUP(C28,Administrativo!$A$1:$H$50,7,0) -> 0
A29: 2 | B29: Administrativo y Gestión | C29: 6 | D29: Durante el proceso de matrícula de las niñas, niños y adolescentes, se verifica por parte del personal directivo y administrativo de la residencia escolar, que se cumpla con tener ocho (8) años cumplidos al momento de ingresar a la residencia escolar y no superar la mayoría de edad. | E29: =VLOOKUP(C29,Administrativo!$A$1:$H$50,7,0) -> 0
A30: 2 | B30: Administrativo y Gestión | C30: 7 | D30: Durante el proceso de matrícula de las niñas, niños y adolescentes, se verifica por parte del personal directivo y administrativo de la residencia escolar, que se cumpla con Residir en zonas rurales de movilidad compleja. | E30: =VLOOKUP(C30,Administrativo!$A$1:$H$50,7,0) -> 0
A31: 2 | B31: Administrativo y Gestión | C31: 8 | D31: Durante el proceso de matrícula de las niñas, niños y adolescentes, se verifica por parte del personal directivo y administrativo de la residencia escolar, que se cumpla con No contar con otra oferta educativa cercana a su residencia. | E31: =VLOOKUP(C31,Administrativo!$A$1:$H$50,7,0) -> 0
A32: 2 | B32: Administrativo y Gestión | C32: 9 | D32: Durante el proceso de matrícula de las niñas, niños y adolescentes, se verifica por parte del personal directivo y administrativo de la residencia escolar, que se cumpla con que Las niñas, niños y adolescentes no son beneficiarios de otras estrategias de bienestar y permanencia como: transporte escolar, modelos de educación flexible). | E32: =VLOOKUP(C32,Administrativo!$A$1:$H$50,7,0) -> 0
A33: 2 | B33: Administrativo y Gestión | C33: 10 | D33: En la residencia escolar se cuenta con instrumentos como: (formatos, fichas, caracterizaciones), para el respectivo seguimiento y control a los estudiantes residentes durante su permanencia en el establecimiento educativo y al momento de salir a visitas familiares o por motivos de salud. | E33: =VLOOKUP(C33,Administrativo!$A$1:$H$50,7,0) -> 0
A34: 2 | B34: Administrativo y Gestión | C34: 11 | D34: Cuando las y los estudiantes salen de la residencia escolar de forma definitiva, se realiza una valoración de salida que incluye el análisis del diario del estudiante residente | E34: =VLOOKUP(C34,Administrativo!$A$1:$H$50,7,0) -> 0
A35: 2 | B35: Administrativo y Gestión | C35: 12 | D35: Cuando las y los estudiantes salen de la residencia escolar de forma definitiva, se realiza una valoración de salida que incluye los desempeños en cada una de las áreas del conocimiento. | E35: =VLOOKUP(C35,Administrativo!$A$1:$H$50,7,0) -> 0
A36: 2 | B36: Administrativo y Gestión | C36: 13 | D36: Cuando las y los estudiantes salen de la residencia escolar de forma definitiva, se realiza una valoración de salida que incluye los aspectos de seguimiento a salidas de la residencia escolar. | E36: =VLOOKUP(C36,Administrativo!$A$1:$H$50,7,0) -> 0
... A50: 5 | B50: Administrativo y Gestión | C50: 27 | D50: El personal directivo y administrativo de la residencia escolar, realiza un proceso de seguimiento y auditoría al cargue de matrícula de estudiantes residentes en SIMAT, cumpliendo con principios de calidad, oportunidad y veracidad de la información, atendiendo a orientaciones de las Secretarías de Educación y el MEN. | E50: =VLOOKUP(C50,Administrativo!$A$1:$H$50,7,0) -> #N/A
A51: 2 | B51: Administrativo y Gestión | C51: 1.o | D51: =VLOOKUP(C51,Administrativo!$A$1:$H$50,2,0) -> 0 | E51: =VLOOKUP(C51,Administrativo!$A$1:$H$50,7,0) -> 0
A52: 2 | B52: Administrativo y Gestión | C52: 2.o | D52: =VLOOKUP(C52,Administrativo!$A$1:$H$50,2,0) -> 0 | E52: =VLOOKUP(C52,Administrativo!$A$1:$H$50,7,0) -> 0
A53: 2 | B53: Administrativo y Gestión | C53: 3.o | D53: =VLOOKUP(C53,Administrativo!$A$1:$H$50,2,0) -> 0 | E53: =VLOOKUP(C53,Administrativo!$A$1:$H$50,7,0) -> 0
A54: 2 | B54: Administrativo y Gestión | C54: 4.o | D54: =VLOOKUP(C54,Administrativo!$A$1:$H$50,2,0) -> 0 | E54: =VLOOKUP(C54,Administrativo!$A$1:$H$50,7,0) -> 0
A55: 2 | B55: Administrativo y Gestión | C55: 5.o | D55: =VLOOKUP(C55,Administrativo!$A$1:$H$50,2,0) -> 0 | E55: =VLOOKUP(C55,Administrativo!$A$1:$H$50,7,0) -> 0
A56: 2 | B56: Administrativo y Gestión | C56: 6.o | D56: =VLOOKUP(C56,Administrativo!$A$1:$H$50,2,0) -> 0 | E56: =VLOOKUP(C56,Administrativo!$A$1:$H$50,7,0) -> 0
A57: 2 | B57: Administrativo y Gestión | C57: 7.o | D57: =VLOOKUP(C57,Administrativo!$A$1:$H$50,2,0) -> 0 | E57: =VLOOKUP(C57,Administrativo!$A$1:$H$50,7,0) -> 0
A58: 2 | B58: Administrativo y Gestión | C58: 8.o | D58: =VLOOKUP(C58,Administrativo!$A$1:$H$50,2,0) -> 0 | E58: =VLOOKUP(C58,Administrativo!$A$1:$H$50,7,0) -> 0
A59: 2 | B59: Administrativo y Gestión | C59: 9.o | D59: =VLOOKUP(C59,Administrativo!$A$1:$H$50,2,0) -> 0 | E59: =VLOOKUP(C59,Administrativo!$A$1:$H$50,7,0) -> 0
A60: 2 | B60: Familia, Comunidad y Redes | C60: 1 | D60: Dispone de la ficha de caracterización sociofamiliar diligenciada de cada estudiante residente. | E60: =VLOOKUP(C60,Familia!$A$1:$H$61,7,0) -> 0
A61: 2 | B61: Familia, Comunidad y Redes | C61: 2 | D61: Activa las rutas de atención ante cualquier situación de vulneración de derechos. | E61: =VLOOKUP(C61,Familia!$A$1:$H$61,7,0) -> 0
A62: 2 | B62: Familia, Comunidad y Redes | C62: 3 | D62: Cuenta con un cronograma donde se visibiliza acciones de fortalecimiento del vínculo Familia – Escuela. | E62: =VLOOKUP(C62,Familia!$A$1:$H$61,7,0) -> 0
A63: 2 | B63: Familia, Comunidad y Redes | C63: 4 | D63: Realiza encuentros periódicos entre la familia y/o responsables, y las niñas, niños y adolescentes. Como una estrategia de fortalecimiento del vínculo afectivo. | E63: =VLOOKUP(C63,Familia!$A$1:$H$61,7,0) -> 0
A64: 2 | B64: Familia, Comunidad y Redes | C64: 5 | D64: Propicia encuentros y/o actividades entre las y los estudiantes residentes y la comunidad. | E64: =VLOOKUP(C64,Familia!$A$1:$H$61,7,0) -> 0
A65: 2 | B65: Familia, Comunidad y Redes | C65: 6 | D65: Fomenta la comunicación (llamadas – video llamadas – mensajes de audio, cartas) permanente entre la familia y las y los estudiantes residentes. | E65: =VLOOKUP(C65,Familia!$A$1:$H$61,7,0) -> 0
A66: 2 | B66: Familia, Comunidad y Redes | C66: 7 | D66: Realiza escuela de padres. (4 veces al año) | E66: =VLOOKUP(C66,Familia!$A$1:$H$61,7,0) -> 0
A67: 2 | B67: Familia, Comunidad y Redes | C67: 8 | D67: Realiza actividades recreo- deportivas vinculando a estudiantes, madres y padres de familia y comunidad. (3 veces al año) | E67: =VLOOKUP(C67,Familia!$A$1:$H$61,7,0) -> 0
A68: 2 | B68: Familia, Comunidad y Redes | C68: 9 | D68: Promueve acciones para visibilizar las prácticas culturales y preservar la cultura de la región. | E68: =VLOOKUP(C68,Familia!$A$1:$H$61,7,0) -> 0
...

Sheet Administrativo(1)
A1: No. Criterio | B1: Criterio de calidad - instrumento | D1: No Existe | F1: Existe | H1: Resultado | I1: Mejoramiento Continuo
A2: 1 | B2: La residencia escolar cuenta con Directivo Rural. | H2: =IF(F2="X",1,0) -> 0
A3: 2 | B3: La residencia escolar cuenta con Coordinador académico, de disciplina o de estudiantes residentes. | H3: =IF(F3="X",1,0) -> 0
A4: 3 | B4: La residencia escolar cuenta con docentes en cada área del conocimiento, en los diferentes niveles educativos. | H4: =IF(F4="X",1,0) -> 0
A5: 4 | B5: La residencia escolar cuenta con Psico Orientador o personal para apoyo a orientación de estudiantes residentes. | H5: =IF(F5="X",1,0) -> 0
A6: 5 | B6: La residencia escolar cuenta con personal de manipulación de alimentos idóneo para el cumplimiento de sus funciones (El personal debe contar con certificado del curso de manipulación de alimentos vigente) | H6: =IF(F6="X",1,0) -> 0
A7: 6 | B7: Durante el proceso de matrícula de las niñas, niños y adolescentes, se verifica por parte del personal directivo y administrativo de la residencia escolar, que se cumpla con tener ocho (8) años cumplidos al momento de ingresar a la residencia escolar y no superar la mayoría de edad. | H7: =IF(F7="X",1,0) -> 0
A8: 7 | B8: Durante el proceso de matrícula de las niñas, niños y adolescentes, se verifica por parte del personal directivo y administrativo de la residencia escolar, que se cumpla con Residir en zonas rurales de movilidad compleja. | H8: =IF(F8="X",1,0) -> 0
A9: 8 | B9: Durante el proceso de matrícula de las niñas, niños y adolescentes, se verifica por parte del personal directivo y administrativo de la residencia escolar, que se cumpla con No contar con otra oferta educativa cercana a su residencia. | H9: =IF(F9="X",1,0) -> 0
A10: 9 | B10: Durante el proceso de matrícula de las niñas, niños y adolescentes, se verifica por parte del personal directivo y administrativo de la residencia escolar, que se cumpla con que Las niñas, niños y adolescentes no son beneficiarios de otras estrategias de bienestar y permanencia como: transporte escolar, modelos de educación flexible). | H10: =IF(F10="X",1,0) -> 0
A11: 10 | B11: En la residencia escolar se cuenta con instrumentos como: (formatos, fichas, caracterizaciones), para el respectivo seguimiento y control a los estudiantes residentes durante su permanencia en el establecimiento educativo y al momento de salir a visitas familiares o por motivos de salud. | H11: =IF(F11="X",1,0) -> 0
A12: 11 | B12: Cuando las y los estudiantes salen de la residencia escolar de forma definitiva, se realiza una valoración de salida que incluye el análisis del diario del estudiante residente | H12: =IF(F12="X",1,0) -> 0
A13: 12 | B13: Cuando las y los estudiantes salen de la residencia escolar de forma definitiva, se realiza una valoración de salida que incluye los desempeños en cada una de las áreas del conocimiento. | H13: =IF(F13="X",1,0) -> 0
... A16: 15 | B16: Se cuenta en la residencia escolar con procesos o instrumentos que hagan seguimiento diario a las actividades cotidianas de estudiantes residentes. | H16: =IF(F16="X",1,0) -> 0
A17: 1.o | H17: =IF(F17="X",1,"")
A18: 2.o | H18: =IF(F18="X",1,"")
A19: 3.o | H19: =IF(F19="X",1,"")
A20: No. Criterio | B20: Criterio de calidad - instrumento | D20: Nulo | E20: En desarrollo | F20: Consolidado | G20: Avanzado | H20: Resultado | I20: Mejoramiento Continuo
A21: 16 | B21: La sede o sedes del establecimiento educativo con residencia escolar, cuenta con un documento que define la estrategia de acogida para estudiantes residentes, articulada con el horizonte institucional. | H21: =IF(D21="X",0,IF(E21="X",0.5,IF(F21="X",0.75,IF(G21="X",1,0)))) -> 0
A22: 19 | B22: Dentro de los documentos institucionales (PEI y Manual de Convivencia), se define de manera detallada un perfil del estudiante residente que se quiere formar. | H22: =IF(D22="X",0,IF(E22="X",0.5,IF(F22="X",0.75,IF(G22="X",1,0)))) -> 0
A23: 20 | B23: Los perfiles del talento humano de la residencia escolar, están claramente definidos e integrados a los documentos de gestión institucional en particular el PEI y allí se detallan los requisitos mínimos y las funciones del personal que estará a cargo de la atención a los estudiantes residentes. | H23: =IF(D23="X",0,IF(E23="X",0.5,IF(F23="X",0.75,IF(G23="X",1,0)))) -> 0
A24: 21 | B24: Como actividades complementarias a los procesos académicos, la residencia escolar programa espacios que involucran a estudiantes residentes teniendo en cuenta aspectos afectivos, emocionales, psicológicos, desarrollo corporal, lúdico, artístico y recreativo. | H24: =IF(D24="X",0,IF(E24="X",0.5,IF(F24="X",0.75,IF(G24="X",1,0)))) -> 0
A25: 22 | B25: Se cuenta con una instancia o ente específico para la coordinación, seguimiento y apoyo a las actividades que se realizan al interior de la residencia escolar, el cual garantiza la participación de los diferentes miembros de la comunidad educativa. | H25: =IF(D25="X",0,IF(E25="X",0.5,IF(F25="X",0.75,IF(G25="X",1,0)))) -> 0
A26: 23 | B26: Dentro de los procesos de gestión de calidad y administración del establecimiento educativo, se realizan actividades de capacitación al equipo de talento humano de la residencia escolar, con el propósito de promover un mejor desarrollo de actividades que permitan la eficiencia y el mejoramiento continuo. | H26: =IF(D26="X",0,IF(E26="X",0.5,IF(F26="X",0.75,IF(G26="X",1,0)))) -> 0
A27: 24 | B27: Los directivos y docentes del establecimiento educativo, conocen las condiciones mínimas para acceder a proyectos del Sistema General de Regalías (SGR) y tienen identificadas iniciativas desde cada área del conocimiento, que pueden formularse para ser financiadas por el mismo. | H27: =IF(D27="X",0,IF(E27="X",0.5,IF(F27="X",0.75,IF(G27="X",1,0)))) -> 0
A28: 25 | B28: Los directivos y docentes del establecimiento educativo, identifican actores estratégicos claves de la comunidad, sector educativo, productivo, económico, no gubernamentales, con los cuales se pueda articular la residencia escolar, para la celebración de convenios y alianzas . | H28: =IF(D28="X",0,IF(E28="X",0.5,IF(F28="X",0.75,IF(G28="X",1,0)))) -> 0
A29: 4.o | H29: =IF(D29="X",0,IF(E29="X",0.5,IF(F29="X",0.75,IF(G29="X",1,""))))
A30: 5.o | H30: =IF(D30="X",0,IF(E30="X",0.5,IF(F30="X",0.75,IF(G30="X",1,""))))
A31: 6.o | H31: =IF(D31="X",0,IF(E31="X",0.5,IF(F31="X",0.75,IF(G31="X",1,""))))
A32: No. Criterio | B32: Criterio de calidad - instrumento | D32: Nulo | E32: Regular | F32: Buena | G32: Excelente | H32: Resultado | I32: Mejoramiento Continuo
A33: 26 | B33: En la residencia escolar se hace revisión del inventario de bienes con los que se cuenta de forma continua, periódica y organizada, con el objetivo de establecer la disponibilidad de recursos físicos para determinar aquellos que deban darse de baja, reponerse o adquirirse. | H33: =IF(D33="X",0,IF(E33="X",0.5,IF(F33="X",0.75,IF(G33="X",1,0)))) -> 0
A34: 27 | B34: El personal directivo y administrativo de la residencia escolar, realiza un proceso de seguimiento y auditoría al cargue de matrícula de estudiantes residentes en SIMAT, cumpliendo con principios de calidad, oportunidad y veracidad de la información, atendiendo a orientaciones de las Secretarías de Educación y el MEN. | H34: =IF(D34="X",0,IF(E34="X",0.5,IF(F34="X",0.75,IF(G34="X",1,0)))) -> 0
A35: 7.o | H35: =IF(D35="X",0,IF(E35="X",0.5,IF(F35="X",0.75,IF(G35="X",1,""))))
A36: 8.o | H36: =IF(D36="X",0,IF(E36="X",0.5,IF(F36="X",0.75,IF(G36="X",1,""))))
A37: 9.o | H37: =IF(D37="X",0,IF(E37="X",0.5,IF(F37="X",0.75,IF(G37="X",1,""))))
B38: TOTAL | D38: =AVERAGE(H2:H19,H21:H31,H33:H37) -> 0

Sheet Datos generales 
A5: INSTRUMENTO DE AUTOEVALUACIÓN POR COMPONENTES
A7: Entidad Territorial certificada:
A8: Nombre del Establecimiento Educativo | F8: Municipio
A9: Sede Residencia Escolar
A10: Fecha de Autoevaluación
A14: Nombres Comisión de Residencias Escolares
A15: Nombre | C15: Teléfono de contacto | D15: Rol (Directivo docente, madres y/o padres de familia, estudiantes, coordinador residencia.)

Sheet Administrativo
A1: No. Criterio | B1: Criterio de calidad - instrumento | C1: Evidencia | D1: No Existe | F1: Existe | H1: Resultado | I1: Mejoramiento Continuo
A2: 1 | B2: La residencia escolar, cuenta con un documento de la estrategia de acogida, bienestar y permanencia para estudiantes residentes. | C2: Documento en físico y digital con estrategia de acogida, bienestar y permanencia para estudiantes residentes. | H2: =IF(F2="X",1,0) -> 0
A3: 2 | B3: Se cuenta con instrumentos como: (formatos, fichas) para el respectivo seguimiento y control a los estudiantes residentes durante su permanencia y al momento de salir a visitas familiares o por motivos de salud. | C3: Fichas de caracterización de estudiantes residentes, formatos de seguimiento a actividades académicas y de convivencia. | H3: =IF(F3="X",1,0) -> 0
A4: 3 | B4: Cuando las y los estudiantes salen de la residencia escolar de forma definitiva, se realiza una valoración de salida que incluye el análisis del diario del estudiante residente | C4: Formato valoración de salida estudiantes residentes. | H4: =IF(F4="X",1,0) -> 0
A5: 4 | B5: Cuando las y los estudiantes salen de la residencia escolar de forma definitiva, se realiza una valoración de salida que incluye los desempeños en cada una de las áreas del conocimiento. | C5: Formato valoración de salida estudiantes residentes. | H5: =IF(F5="X",1,0) -> 0
A6: 5 | B6: Cuando las y los estudiantes salen de la residencia escolar de forma definitiva, se realiza una valoración de salida que incluye los aspectos de seguimiento a salidas de la residencia escolar. | C6: Formato valoración de salida estudiantes residentes. | H6: =IF(F6="X",1,0) -> 0
A7: 6 | B7: Cuando las y los estudiantes salen de la residencia escolar de forma definitiva, se realiza una valoración de salida que incluye los aspectos de convivencia, académicos y promoción del grado escolar. | C7: Formato valoración de salida estudiantes residentes. | H7: =IF(F7="X",1,0) -> 0
A8: 7 | B8: Las niñas, niños y adolescentes cumplen con el perfil descrito en el decreto y en los lineamientos técnicos y operativos de las residencias escolares. | C8: Perfil del estudiante integrado a los documentos de gestión institucional (PEI, Manual de Convivencia) | H8: =IF(F8="X",1,0) -> 0
A9: 8 | B9: La residencia escolar cuenta con talento humano adicional al descrito en el decreto y en los lineamientos técnicos y operativos. | C9: Perfiles y funciones del talento humano adicional integrados a documentos de gestión institucional (PEI) | H9: =IF(F9="X",1,0) -> 0
A10: 9 | B10: Se cuenta en la residencia escolar con herramientas para hacer seguimiento diario a las actividades cotidianas de estudiantes residentes (Fichas de seguimiento diario, bitácoras) | C10: Fichas de seguimiento, diario o bitácora con información académica y convivencial de estudiantes residentes. | H10: =IF(F10="X",1,0) -> 0
A11: 1.o | H11: =IF(F11="X",1,"")
A12: 2.o | H12: =IF(F12="X",1,"")
A13: 3.o | H13: =IF(F13="X",1,"")
A14: No. Criterio | B14: Criterio de calidad - instrumento | C14: Evidencia | D14: Nulo | E14: En desarrollo | F14: Consolidado | G14: Avanzado | H14: Resultado | I14: Mejoramiento Continuo
A15: 10 | B15: Los perfiles del talento humano están acordes con lo descrito en el decreto y en los lineamientos técnicos y operativos de las residencias escolares. | C15: Perfiles y funciones del talento humano integrados a documentos de gestión institucional según decreto (PEI) | H15: =IF(D15="X",0,IF(E15="X",0.5,IF(F15="X",0.75,IF(G15="X",1,0)))) -> 0
A16: 11 | B16: Como actividades complementarias a los procesos académicos, la residencia escolar programa espacios que involucran a estudiantes residentes teniendo en cuenta aspectos afectivos, emocionales, psicológicos, desarrollo corporal, lúdico, artístico y recreativo. | C16: Cronograma de actividades culturales, lúdicas, artísticas, deportivas integrado al POA o la programación académica del año lectivo. | H16: =IF(D16="X",0,IF(E16="X",0.5,IF(F16="X",0.75,IF(G16="X",1,0)))) -> 0
A17: 12 | B17: Se cuenta con una instancia o ente específico para la coordinación, seguimiento y apoyo a las actividades que se realizan al interior de la residencia escolar, el cual garantiza la participación de los involucrados. | C17: Acta de constitución de la Comisión de Residencia Escolar, listas de asistencia. | H17: =IF(D17="X",0,IF(E17="X",0.5,IF(F17="X",0.75,IF(G17="X",1,0)))) -> 0
A18: 13 | B18: Dentro de los procesos de gestión de calidad y administración del establecimiento educativo, se realizan actividades de capacitación al equipo de talento humano de la residencia escolar, con el propósito de promover un mejor desarrollo de actividades que permitan el fortalecimiento de las capacidades y por ende un mejor desarrollo de las acciones. | C18: Listas de asistencia, memorias de talleres, registro fotográfico. | H18: =IF(D18="X",0,IF(E18="X",0.5,IF(F18="X",0.75,IF(G18="X",1,0)))) -> 0
A19: 14 | B19: Los directivos y docentes conocen las condiciones mínimas para acceder a proyectos del Sistema General de Regalías (SGR) y tienen identificadas iniciativas desde cada área del conocimiento, que pueden formularse para ser financiadas por el mismo. | C19: Archivo físico y digital de proyectos formulados en cada área del conocimiento. | H19: =IF(D19="X",0,IF(E19="X",0.5,IF(F19="X",0.75,IF(G19="X",1,0)))) -> 0
A20: 15 | B20: Los directivos y docentes cuentan con un directorio de actores estratégicos claves de la comunidad, sector educativo, productivo, económico o social, organizaciones no gubernamentales, con los cuales se pueda articular la residencia escolar, para la celebración de convenios y alianzas. | C20: Directorio, bases de datos, con contactos de actores externos que fortalecen el trabajo y desarrollo de la comunidad educativa de la residencia escolar. | H20: =IF(D20="X",0,IF(E20="X",0.5,IF(F20="X",0.75,IF(G20="X",1,0)))) -> 0
A21: 4.o | H21: =IF(D21="X",0,IF(E21="X",0.5,IF(F21="X",0.75,IF(G21="X",1,""))))
A22: 5.o | H22: =IF(D22="X",0,IF(E22="X",0.5,IF(F22="X",0.75,IF(G22="X",1,""))))
A23: 6.o | H23: =IF(D23="X",0,IF(E23="X",0.5,IF(F23="X",0.75,IF(G23="X",1,""))))
A24: No. Criterio | B24: Criterio de calidad - instrumento | C24: Evidencia | D24: Nulo | E24: Regular | F24: Buena | G24: Excelente | H24: Resultado | I24: Mejoramiento Continuo
A25: 16 | B25: Se cuenta con un inventario de bienes con el objetivo de establecer la disponibilidad de recursos físicos para determinar aquellos que deban darse de baja, reponerse o adquirirse. | C25: Archivo físico y digital del inventario de la residencia escolar, actas de entrega, egreso o ingreso de bienes, registro fotográfico. | H25: =IF(D25="X",0,IF(E25="X",0.5,IF(F25="X",0.75,IF(G25="X",1,0)))) -> 0
A26: 17 | B26: El personal directivo y administrativo realiza un proceso de seguimiento y auditoría al cargue de matrícula de estudiantes residentes en SIMAT, cumpliendo con principios de calidad, oportunidad y veracidad de la información, atendiendo a orientaciones de las Secretarías de Educación y el MEN. | C26: Formatos de registro de información de estudiantes residentes SIMAT, bases de datos matrícula actualizadas. | H26: =IF(D26="X",0,IF(E26="X",0.5,IF(F26="X",0.75,IF(G26="X",1,0)))) -> 0
A27: 7.o | H27: =IF(D27="X",0,IF(E27="X",0.5,IF(F27="X",0.75,IF(G27="X",1,""))))
A28: 8.o | H28: =IF(D28="X",0,IF(E28="X",0.5,IF(F28="X",0.75,IF(G28="X",1,""))))
A29: 9.o | H29: =IF(D29="X",0,IF(E29="X",0.5,IF(F29="X",0.75,IF(G29="X",1,""))))
B30: TOTAL | D30: =AVERAGE(H2:H13,H15:H23,H25:H29) -> 0

Sheet Familia
A1: No. Criterio | B1: Criterio de calidad - instrumento | C1: Evidencia | D1: No Existe | F1: Existe | H1: Resultado | I1: Mejoramiento Continuo
A2: 1 | B2: Dispone de la ficha de caracterización sociofamiliar diligenciada de cada estudiante residente. | C2: Ficha de caracterización sociofamiliar diligenciada por cada estudiante. | H2: =IF(F2="X",1,0) -> 0
A3: 2 | B3: Activa las rutas de atención ante cualquier situación de vulneración de derechos. | C3: Informe sobre la situación de vulneración identificada y soporte de la activación de ruta (acta, informe de llamada) | H3: =IF(F3="X",1,0) -> 0
A4: 3 | B4: Cuenta con un cronograma donde se visibiliza acciones de fortalecimiento del vínculo Familia – Escuela. | C4: Cronograma, fichas de planeación de actividades. | H4: =IF(F4="X",1,0) -> 0
A5: 4 | B5: Realiza encuentros periódicos entre la familia y/o responsables, y las niñas, niños y adolescentes. Como una estrategia de fortalecimiento del vínculo afectivo. | C5: Ficha de planeación y de desarrollo de actividades diligenciadas por cada actividad a desarrollar y desarrollada; registro de asistencia, soporte fotográfico | H5: =IF(F5="X",1,0) -> 0
A6: 5 | B6: Propicia encuentros y/o actividades entre las y los estudiantes residentes y la comunidad. | C6: Ficha de planeación y de desarrollo de actividades diligenciadas por cada actividad a desarrollar y desarrollada; registro de asistencia, soporte fotográfico. | H6: =IF(F6="X",1,0) -> 0
A7: 6 | B7: Fomenta la comunicación (llamadas – video llamadas – mensajes de audio, cartas) permanente entre la familia y las y los estudiantes residentes. | C7: Ficha de planeación y de desarrollo de actividades diligenciadas por cada actividad a desarrollar y desarrollada; soporte fotográfico. | H7: =IF(F7="X",1,0) -> 0
A8: 7 | B8: Realiza escuela de padres. (4 veces al año) | C8: Ficha de planeación y de desarrollo de actividades diligenciadas por cada actividad a desarrollar y desarrollada; registro de asistencia, soporte fotográfico. | H8: =IF(F8="X",1,0) -> 0
A9: 8 | B9: Realiza actividades recreo- deportivas vinculando a estudiantes, madres y padres de familia y comunidad. (3 veces al año) | C9: Ficha de planeación y de desarrollo de actividades diligenciadas por cada actividad a desarrollar y desarrollada; registro de asistencia, soporte fotográfico. | H9: =IF(F9="X",1,0) -> 0
A10: 9 | B10: Promueve acciones para visibilizar las prácticas culturales y preservar la cultura de la región. | C10: Ficha de planeación y de desarrollo de actividades diligenciadas por cada actividad ; registro de asistencia, soporte fotográfico. | H10: =IF(F10="X",1,0) -> 0
A11: 1.o | H11: =IF(F11="X",1,"")
A12: 2.o | H12: =IF(F12="X",1,"")
A13: 3.o | H13: =IF(F13="X",1,"")
A14: No. Criterio | B14: Criterio de calidad - instrumento | C14: Evidencia | D14: Nulo | E14: En desarrollo | F14: Consolidado | G14: Avanzado | H14: Resultado | I14: Mejoramiento Continuo
A15: 10 | B15: Cuenta con un plan de acompañamiento psicosocial para cada estudiante residente | C15: Plan de acompañamiento diligenciado y con soportes (actas, reportes, soporte fotográfico) por cada estudiante residente. | H15: =IF(D15="X",0,IF(E15="X",0.5,IF(F15="X",0.75,IF(G15="X",1,0)))) -> 0
A16: 11 | B16: Identifica y gestiona situaciones de vulneración de derechos de las y los estudiantes residentes. | C16: Informe sobre la situación de vulneración identificada. | H16: =IF(D16="X",0,IF(E16="X",0.5,IF(F16="X",0.75,IF(G16="X",1,0)))) -> 0
A17: 12 | B17: Cuenta con un mapeo de actores, ruta de atención integral del Municipio y Plan de Atención Integral. | C17: Mapeo de actores, ruta de atención integral del Municipio y Plan de Atención Integral visibles. | H17: =IF(D17="X",0,IF(E17="X",0.5,IF(F17="X",0.75,IF(G17="X",1,0)))) -> 0
A18: 13 | B18: Dispone de evidencias donde se visibilizan acciones de fortalecimiento del vínculo Familia – Escuela. | C18: Ficha de planeación y de desarrollo de actividades diligenciadas por cada actividad a desarrollar y desarrollada; soporte fotográfico. | H18: =IF(D18="X",0,IF(E18="X",0.5,IF(F18="X",0.75,IF(G18="X",1,0)))) -> 0
B19: Dispone de evidencias donde se visibilizan acciones de fortalecimiento del vínculo Familia – Escuela. | H19: =IF(D19="X",0,IF(E19="X",0.5,IF(F19="X",0.75,IF(G19="X",1,0)))) -> 0
A20: 4.o | H20: =IF(D20="X",0,IF(E20="X",0.5,IF(F20="X",0.75,IF(G20="X",1,""))))
A21: 5.o | H21: =IF(D21="X",0,IF(E21="X",0.5,IF(F21="X",0.75,IF(G21="X",1,""))))
A22: 6.o | H22: =IF(D22="X",0,IF(E22="X",0.5,IF(F22="X",0.75,IF(G22="X",1,""))))
B23: TOTAL | D23: =AVERAGE(H2:H13,H15:H22) -> 0

Sheet Pedagogico
A1: No. Criterio | B1: Criterio de calidad - instrumento | C1: Evidencia | D1: No Existe | F1: Existe | H1: Resultado | I1: Mejoramiento Continuo
A2: 1 | B2: Hay evidencia de reuniones con docentes del EE para informarse y hacer seguimiento al desempeño académico de las niñas, los niños y las y los adolescentes residentes. | C2: Minuta o acta firmada | H2: =IF(F2="X",1,0) -> 0
A3: 2 | B3: Hay evidencia de reuniones con padres de familia, acudientes y / o cuidadores para informarlos sobre el desempeño académico de las niñas, los niños y las y los adolescentes residentes y su comportamiento en la RE. | C3: Minuta o acta firmada | H3: =IF(F3="X",1,0) -> 0
A4: 3 | B4: Se planean y desarrollan espacios para las celebraciones de cumpleaños y reconocimientos de logros de NNA. | C4: Cronograma general y registros fotográficos | H4: =IF(F4="X",1,0) -> 0
A5: 4 | B5: Se planean y desarrollan espacios de capacitación y reflexión para fortalecer estrategias de autodeterminación, autonomía y toma de decisiones. | C5: Cronograma general, guiones, minutas, listas de asistencia y registro fotográfico | H5: =IF(F5="X",1,0) -> 0
A6: 5 | B6: Se planean y desarrollan actividades para fortalecer hábitos de lectura y escritura de NNA. | C6: Cronograma general, guiones y registros fotográficos | H6: =IF(F6="X",1,0) -> 0
A7: 6 | B7: Se planean y desarrollan espacios de análisis de interacción con medios masivos (televisión, internet, redes sociales). | C7: Cronograma general, guiones y registros fotográficos | H7: =IF(F7="X",1,0) -> 0
A8: 7 | B8: Se desarrollan espacios de afianzamiento de la identidad (infancia, pubertad, adolescencia) acordes con el ciclo vital. | C8: Cronograma general, guiones y registros fotográficos | H8: =IF(F8="X",1,0) -> 0
A9: 8 | B9: Se planean y desarrollan espacios de fortalecimiento psicosocial con perspectiva de género. | C9: Cronograma general, guiones y registros fotográficos | H9: =IF(F9="X",1,0) -> 0
A10: 9 | B10: Se crean espacios para la solución mediada y pacífica de conflictos o contravenciones al manual de convivencia de la RE. | C10: Minutas o compromisos firmados | H10: =IF(F10="X",1,0) -> 0
